BEGIN:VCALENDAR
VERSION:2.0
METHOD:PUBLISH
PRODID:-//ddaysoftware.com//NONSGML DDay.iCal 1.0//EN
BEGIN:VTIMEZONE
TZID:Central Standard Time
BEGIN:STANDARD
DTSTART;VALUE=DATE:18000101
RRULE:FREQ=YEARLY;BYDAY=SU;BYHOUR=2;BYMINUTE=0;BYMONTH=10;BYMONTHDAY=25,26,
 27,28,29,30,31
TZOFFSETFROM:-0500
TZOFFSETTO:-0600
END:STANDARD
BEGIN:DAYLIGHT
DTSTART;VALUE=DATE:18000101
RRULE:FREQ=YEARLY;BYDAY=SU;BYHOUR=2;BYMINUTE=0;BYMONTH=4;BYMONTHDAY=1,2,3,4
 ,5,6,7
TZOFFSETFROM:-0600
TZOFFSETTO:-0500
END:DAYLIGHT
BEGIN:STANDARD
DTSTART;VALUE=DATE:20070101
RRULE:FREQ=YEARLY;BYDAY=SU;BYHOUR=2;BYMINUTE=0;BYMONTH=11;BYMONTHDAY=1,2,3,
 4,5,6,7
TZOFFSETFROM:-0500
TZOFFSETTO:-0600
END:STANDARD
BEGIN:DAYLIGHT
DTSTART;VALUE=DATE:20070101
RRULE:FREQ=YEARLY;BYDAY=SU;BYHOUR=2;BYMINUTE=0;BYMONTH=3;BYMONTHDAY=8,9,10,
 11,12,13,14
TZOFFSETFROM:-0600
TZOFFSETTO:-0500
END:DAYLIGHT
END:VTIMEZONE
BEGIN:VEVENT
DESCRIPTION:SOLO - Genre: Singer/Songwriter &amp\; A little bit of everythi
 ng Scott Wilcox\, acclaimed for his performances on Oprah Winfrey and feat
 ured in a Super Bowl commercial\, brings his talent to our stage. Enjoy a 
 blend of classic covers spanning every era and soulful Americana blues ori
 ginals. Scott Wilcox Music HERE
DTEND;TZID=Central Standard Time:20260605T210000
DTSTAMP:20260425T091907
DTSTART;TZID=Central Standard Time:20260605T180000
LOCATION:Patio
SEQUENCE:0
SUMMARY:🎶 SOLO: Scott Wilcox
UID:3659c532-94f1-44cb-81cc-1a5df78b0c95
URL:https://www.hoozelsatthelakes.com/🎶-solo-scott-wilcox
END:VEVENT
END:VCALENDAR
